BEGIN:VCALENDAR
VERSION:2.0
PRODID:-//Village of Waterville - ECPv6.15.20//NONSGML v1.0//EN
CALSCALE:GREGORIAN
METHOD:PUBLISH
X-ORIGINAL-URL:https://villageofwaterville.gov
X-WR-CALDESC:Events for Village of Waterville
REFRESH-INTERVAL;VALUE=DURATION:PT1H
X-Robots-Tag:noindex
X-PUBLISHED-TTL:PT1H
BEGIN:VTIMEZONE
TZID:UTC
BEGIN:STANDARD
TZOFFSETFROM:+0000
TZOFFSETTO:+0000
TZNAME:UTC
DTSTART:20240101T000000
END:STANDARD
END:VTIMEZONE
BEGIN:VEVENT
DTSTART;VALUE=DATE:20251124
DTEND;VALUE=DATE:20251125
DTSTAMP:20260420T093048
CREATED:20251020T154142Z
LAST-MODIFIED:20251020T154312Z
UID:10001207-1763942400-1764028799@villageofwaterville.gov
SUMMARY:Garbage Pick Up
DESCRIPTION:
URL:https://villageofwaterville.gov/event/garbage-pick-up-38/
LOCATION:NY
CATEGORIES:DPW
END:VEVENT
BEGIN:VEVENT
DTSTART;TZID=UTC:20251124T190000
DTEND;TZID=UTC:20251124T200000
DTSTAMP:20260420T093048
CREATED:20251020T154429Z
LAST-MODIFIED:20251020T154434Z
UID:10001208-1764010800-1764014400@villageofwaterville.gov
SUMMARY:Village Board Meeting
DESCRIPTION:
URL:https://villageofwaterville.gov/event/village-board-meeting-25/
LOCATION:NY
CATEGORIES:Village Board
END:VEVENT
END:VCALENDAR